BEGIN:VCALENDAR
VERSION:2.0
PRODID:-//United Hebrew Congregation Terre Haute - ECPv6.15.20//NONSGML v1.0//EN
CALSCALE:GREGORIAN
METHOD:PUBLISH
X-ORIGINAL-URL:https://www.unitedhebrewth.org
X-WR-CALDESC:Events for United Hebrew Congregation Terre Haute
REFRESH-INTERVAL;VALUE=DURATION:PT1H
X-Robots-Tag:noindex
X-PUBLISHED-TTL:PT1H
BEGIN:VTIMEZONE
TZID:America/Indiana/Indianapolis
BEGIN:DAYLIGHT
TZOFFSETFROM:-0500
TZOFFSETTO:-0400
TZNAME:EDT
DTSTART:20250309T070000
END:DAYLIGHT
BEGIN:STANDARD
TZOFFSETFROM:-0400
TZOFFSETTO:-0500
TZNAME:EST
DTSTART:20251102T060000
END:STANDARD
BEGIN:DAYLIGHT
TZOFFSETFROM:-0500
TZOFFSETTO:-0400
TZNAME:EDT
DTSTART:20260308T070000
END:DAYLIGHT
BEGIN:STANDARD
TZOFFSETFROM:-0400
TZOFFSETTO:-0500
TZNAME:EST
DTSTART:20261101T060000
END:STANDARD
BEGIN:DAYLIGHT
TZOFFSETFROM:-0500
TZOFFSETTO:-0400
TZNAME:EDT
DTSTART:20270314T070000
END:DAYLIGHT
BEGIN:STANDARD
TZOFFSETFROM:-0400
TZOFFSETTO:-0500
TZNAME:EST
DTSTART:20271107T060000
END:STANDARD
END:VTIMEZONE
BEGIN:VEVENT
DTSTART;TZID=America/Indiana/Indianapolis:20260425T194500
DTEND;TZID=America/Indiana/Indianapolis:20260425T201500
DTSTAMP:20260419T231849
CREATED:20260419T200812Z
LAST-MODIFIED:20260419T200812Z
UID:23659-1777146300-1777148100@www.unitedhebrewth.org
SUMMARY:Havdalah service for Saturday\, April 25\, 2026
DESCRIPTION:Please join Steve Turetzky and Lee Winter for remote Havdalah services\, representing a quick and meaningful way to close Shabbat together. \nThe service will begin and via Zoom at 7:45 p.m. Saturday\, April 25\, 2026\, and run 15-30 minutes. \nServices will continue on a twice-monthly basis. \n\nFollow along with the Havdalah siddur (service booklet).\nWatch an introductory video.\n\nReview this previous Havdalah reflection. \nFind out why this Havdalah is especially meaningful\, enjoy a few holy songs\, and begin the new year with an uplifting communal ritual. \nContact us for a Zoom link and to receive updates via the Havdalah mailing list. Send an email or Facebook message or use our contact form. \nYou are invited to bring: \n\nA braided candle (or any candle you have)\nA small cup of wine or grape juice\nSomething fragrant for spices — cinnamon\, cloves\, or a spice blend\n\nSee you there!
URL:https://www.unitedhebrewth.org/event/havdalah-service-for-saturday-april-25-2026/
LOCATION:United Hebrew Congregation Virtual Sanctuary\, IN
END:VEVENT
END:VCALENDAR